BEGIN:VCALENDAR
VERSION:2.0
PRODID:-//wp-events-plugin.com//7.2.3.1//EN
TZID:America/New_York
X-WR-TIMEZONE:America/New_York
BEGIN:VEVENT
UID:322@ecolecreativitephoto.com
DTSTART;TZID=America/New_York:20250212T190000
DTEND;TZID=America/New_York:20250326T213000
DTSTAMP:20241204T152131Z
URL:https://ecolecreativitephoto.com/activites/atelier-noir-et-blanc-soir-
 1202-0503-26-03/
SUMMARY:Le Noir et Blanc à saveur impressionniste - Mercredis 12 février\
 , 5 et 26 mars 2025 - 19h00
DESCRIPTION:Le Noir et Blanc à saveur impressionniste - Mercredis 12 févr
 ier\, 5 et 26 mars 2025 -19h00
CATEGORIES:Atelier Photo
LOCATION:En ligne\,   \,   \, Canada
X-APPLE-STRUCTURED-LOCATION;VALUE=URI;X-ADDRESS=  \,   \, Canada;X-APPLE-RA
 DIUS=100;X-TITLE=En ligne:geo:0,0
END:VEVENT
BEGIN:VTIMEZONE
TZID:America/New_York
X-LIC-LOCATION:America/New_York
BEGIN:STANDARD
DTSTART:20241103T010000
TZOFFSETFROM:-0400
TZOFFSETTO:-0500
TZNAME:EST
END:STANDARD
BEGIN:DAYLIGHT
DTSTART:20250309T030000
TZOFFSETFROM:-0500
TZOFFSETTO:-0400
TZNAME:EDT
END:DAYLIGHT
END:VTIMEZONE
END:VCALENDAR