BEGIN:VCALENDAR
VERSION:2.0
PRODID:-//wp-events-plugin.com//7.2.3.1//EN
TZID:America/New_York
X-WR-TIMEZONE:America/New_York
BEGIN:VEVENT
UID:35@ecolecreativitephoto.com
DTSTART;TZID=America/New_York:20210211T100000
DTEND;TZID=America/New_York:20210211T110000
DTSTAMP:20210209T052541Z
URL:https://ecolecreativitephoto.com/activites/devoilement_1102_matin/
SUMMARY:Dévoilement programmation officielle - 11 février 2021 - 10h
DESCRIPTION:
CATEGORIES:Conférence gratuite
LOCATION:En ligne\,   \,   \, Canada
X-APPLE-STRUCTURED-LOCATION;VALUE=URI;X-ADDRESS=  \,   \, Canada;X-APPLE-RA
 DIUS=100;X-TITLE=En ligne:geo:0,0
END:VEVENT
BEGIN:VEVENT
UID:36@ecolecreativitephoto.com
DTSTART;TZID=America/New_York:20210211T190000
DTEND;TZID=America/New_York:20210211T200000
DTSTAMP:20210209T052648Z
URL:https://ecolecreativitephoto.com/activites/devoilement_1102_soir/
SUMMARY:Dévoilement programmation officielle - 11 février 2021 - 19h
DESCRIPTION:
CATEGORIES:Conférence gratuite
LOCATION:En ligne\,   \,   \, Canada
X-APPLE-STRUCTURED-LOCATION;VALUE=URI;X-ADDRESS=  \,   \, Canada;X-APPLE-RA
 DIUS=100;X-TITLE=En ligne:geo:0,0
END:VEVENT
BEGIN:VEVENT
UID:31@ecolecreativitephoto.com
DTSTART;TZID=America/New_York:20210218T100000
DTEND;TZID=America/New_York:20210218T110000
DTSTAMP:20210213T122519Z
URL:https://ecolecreativitephoto.com/activites/conference_1802_matin/
SUMMARY:Conférence gratuite- Photographier l'eau sous toutes ses formes - 
 18 février 2021 - 10h
DESCRIPTION:
CATEGORIES:Conférence gratuite
LOCATION:En ligne\,   \,   \, Canada
X-APPLE-STRUCTURED-LOCATION;VALUE=URI;X-ADDRESS=  \,   \, Canada;X-APPLE-RA
 DIUS=100;X-TITLE=En ligne:geo:0,0
END:VEVENT
BEGIN:VEVENT
UID:32@ecolecreativitephoto.com
DTSTART;TZID=America/New_York:20210218T193000
DTEND;TZID=America/New_York:20210218T203000
DTSTAMP:20210213T122548Z
URL:https://ecolecreativitephoto.com/activites/conference_1802_soir/
SUMMARY:Conférence gratuite- Photographier l'eau sous toutes ses formes - 
 18 février 2021 - 19h30
DESCRIPTION:
CATEGORIES:Conférence gratuite
LOCATION:En ligne\,   \,   \, Canada
X-APPLE-STRUCTURED-LOCATION;VALUE=URI;X-ADDRESS=  \,   \, Canada;X-APPLE-RA
 DIUS=100;X-TITLE=En ligne:geo:0,0
END:VEVENT
BEGIN:VEVENT
UID:15@ecolecreativitephoto.com
DTSTART;TZID=America/New_York:20210222T093000
DTEND;TZID=America/New_York:20210222T113000
DTSTAMP:20210215T064411Z
URL:https://ecolecreativitephoto.com/activites/trouver-son-style-matin-220
 2-0803/
SUMMARY:Comment trouver son style en photographie - 22 février et 8 mars 2
 021 - 9h30
DESCRIPTION:
CATEGORIES:Cours Photo
LOCATION:En ligne\,   \,   \, Canada
X-APPLE-STRUCTURED-LOCATION;VALUE=URI;X-ADDRESS=  \,   \, Canada;X-APPLE-RA
 DIUS=100;X-TITLE=En ligne:geo:0,0
END:VEVENT
BEGIN:VEVENT
UID:16@ecolecreativitephoto.com
DTSTART;TZID=America/New_York:20210222T190000
DTEND;TZID=America/New_York:20210222T210000
DTSTAMP:20210215T064429Z
URL:https://ecolecreativitephoto.com/activites/trouver-son-style-soir-2202
 -0803/
SUMMARY:Comment trouver son style en photographie - 22 février et 8 mars 2
 021 - 19h
DESCRIPTION:
CATEGORIES:Cours Photo
LOCATION:En ligne\,   \,   \, Canada
X-APPLE-STRUCTURED-LOCATION;VALUE=URI;X-ADDRESS=  \,   \, Canada;X-APPLE-RA
 DIUS=100;X-TITLE=En ligne:geo:0,0
END:VEVENT
BEGIN:VEVENT
UID:24@ecolecreativitephoto.com
DTSTART;TZID=America/New_York:20210224T093000
DTEND;TZID=America/New_York:20210224T113000
DTSTAMP:20210215T064451Z
URL:https://ecolecreativitephoto.com/activites/photo-intuitive-matin-2402-
 2306/
SUMMARY:La photo intuitive- 24 février\, 10 et 31 mars\, 21 avril\, 12 mai
 \, 2 et 23 juin 2021 - 09h30
DESCRIPTION:
CATEGORIES:Atelier Photo
LOCATION:En ligne\,   \,   \, Canada
X-APPLE-STRUCTURED-LOCATION;VALUE=URI;X-ADDRESS=  \,   \, Canada;X-APPLE-RA
 DIUS=100;X-TITLE=En ligne:geo:0,0
END:VEVENT
BEGIN:VEVENT
UID:23@ecolecreativitephoto.com
DTSTART;TZID=America/New_York:20210224T190000
DTEND;TZID=America/New_York:20210224T210000
DTSTAMP:20210215T064508Z
URL:https://ecolecreativitephoto.com/activites/photo-intuitive-soir-2402-2
 306/
SUMMARY:La photo intuitive- 24 février\, 10 et 31 mars\, 21 avril\, 12 mai
 \, 2 et 23 juin 2021 - 19h
DESCRIPTION:
CATEGORIES:Atelier Photo
LOCATION:En ligne\,   \,   \, Canada
X-APPLE-STRUCTURED-LOCATION;VALUE=URI;X-ADDRESS=  \,   \, Canada;X-APPLE-RA
 DIUS=100;X-TITLE=En ligne:geo:0,0
END:VEVENT
BEGIN:VEVENT
UID:26@ecolecreativitephoto.com
DTSTART;TZID=America/New_York:20210225T093000
DTEND;TZID=America/New_York:20210225T113000
DTSTAMP:20210215T064524Z
URL:https://ecolecreativitephoto.com/activites/noir-et-blanc-matin-2502-27
 05/
SUMMARY:S'exprimer avec le noir et blanc 25 février\, 11 et 25 mars\, 15 a
 vril\, 6 et 27 mai 2021 - 09h30
DESCRIPTION:
CATEGORIES:Atelier Photo
LOCATION:En ligne\,   \,   \, Canada
X-APPLE-STRUCTURED-LOCATION;VALUE=URI;X-ADDRESS=  \,   \, Canada;X-APPLE-RA
 DIUS=100;X-TITLE=En ligne:geo:0,0
END:VEVENT
BEGIN:VEVENT
UID:25@ecolecreativitephoto.com
DTSTART;TZID=America/New_York:20210225T190000
DTEND;TZID=America/New_York:20210225T210000
DTSTAMP:20210215T064550Z
URL:https://ecolecreativitephoto.com/activites/noir-et-blanc-soir-2502-270
 5/
SUMMARY:S'exprimer avec le noir et blanc 25 février\, 11 et 25 mars\, 15 a
 vril\, 6 et 27 mai 2021 - 19h
DESCRIPTION:
CATEGORIES:Atelier Photo
LOCATION:En ligne\,   \,   \, Canada
X-APPLE-STRUCTURED-LOCATION;VALUE=URI;X-ADDRESS=  \,   \, Canada;X-APPLE-RA
 DIUS=100;X-TITLE=En ligne:geo:0,0
END:VEVENT
BEGIN:VEVENT
UID:27@ecolecreativitephoto.com
DTSTART;TZID=America/New_York:20210304T093000
DTEND;TZID=America/New_York:20210304T113000
DTSTAMP:20210215T064615Z
URL:https://ecolecreativitephoto.com/activites/creer-serie-matin-0403-1706
 /
SUMMARY:Apprendre à créer une série en photographie - 4 et 18 mars\, 8 e
 t 29 avril\, 20 mai et 17 juin 2021 - 09h30
DESCRIPTION:
CATEGORIES:Atelier Photo
LOCATION:En ligne\,   \,   \, Canada
X-APPLE-STRUCTURED-LOCATION;VALUE=URI;X-ADDRESS=  \,   \, Canada;X-APPLE-RA
 DIUS=100;X-TITLE=En ligne:geo:0,0
END:VEVENT
BEGIN:VEVENT
UID:28@ecolecreativitephoto.com
DTSTART;TZID=America/New_York:20210304T190000
DTEND;TZID=America/New_York:20210304T210000
DTSTAMP:20210215T064639Z
URL:https://ecolecreativitephoto.com/activites/creer-serie-soir-0403-1706/
SUMMARY:Apprendre à créer une série en photographie - 4 et 18 mars\, 8 e
 t 29 avril\, 20 mai et 17 juin 2021 - 19h
DESCRIPTION:
CATEGORIES:Atelier Photo
LOCATION:En ligne\,   \,   \, Canada
X-APPLE-STRUCTURED-LOCATION;VALUE=URI;X-ADDRESS=  \,   \, Canada;X-APPLE-RA
 DIUS=100;X-TITLE=En ligne:geo:0,0
END:VEVENT
BEGIN:VEVENT
UID:49@ecolecreativitephoto.com
DTSTART;TZID=America/New_York:20210316T100000
DTEND;TZID=America/New_York:20210316T110000
DTSTAMP:20210228T154541Z
URL:https://ecolecreativitephoto.com/activites/conference_1603_matin/
SUMMARY:Conférence gratuite- Découvrir les principes de la composition ch
 ez les grands photographes  - 16 mars 2021 - 10h
DESCRIPTION:
CATEGORIES:Conférence gratuite
LOCATION:En ligne\,   \,   \, Canada
X-APPLE-STRUCTURED-LOCATION;VALUE=URI;X-ADDRESS=  \,   \, Canada;X-APPLE-RA
 DIUS=100;X-TITLE=En ligne:geo:0,0
END:VEVENT
BEGIN:VEVENT
UID:50@ecolecreativitephoto.com
DTSTART;TZID=America/New_York:20210316T193000
DTEND;TZID=America/New_York:20210316T203000
DTSTAMP:20210228T152248Z
URL:https://ecolecreativitephoto.com/activites/conference_1603_soir/
SUMMARY:Conférence gratuite- Découvrir les principes de la composition ch
 ez les grands photographes  - 16 mars 2021 - 19h30
DESCRIPTION:
CATEGORIES:Conférence gratuite
LOCATION:En ligne\,   \,   \, Canada
X-APPLE-STRUCTURED-LOCATION;VALUE=URI;X-ADDRESS=  \,   \, Canada;X-APPLE-RA
 DIUS=100;X-TITLE=En ligne:geo:0,0
END:VEVENT
BEGIN:VEVENT
UID:18@ecolecreativitephoto.com
DTSTART;TZID=America/New_York:20210319T093000
DTEND;TZID=America/New_York:20210319T113000
DTSTAMP:20210215T064706Z
URL:https://ecolecreativitephoto.com/activites/roles-avant-plan-matin-1903
 -0904/
SUMMARY:Les rôles de l'avant plan en photographie - 19 mars et 9 avril 202
 1 - 9h30
DESCRIPTION:
CATEGORIES:Cours Photo
LOCATION:En ligne\,   \,   \, Canada
X-APPLE-STRUCTURED-LOCATION;VALUE=URI;X-ADDRESS=  \,   \, Canada;X-APPLE-RA
 DIUS=100;X-TITLE=En ligne:geo:0,0
END:VEVENT
BEGIN:VEVENT
UID:17@ecolecreativitephoto.com
DTSTART;TZID=America/New_York:20210319T190000
DTEND;TZID=America/New_York:20210319T210000
DTSTAMP:20210215T064724Z
URL:https://ecolecreativitephoto.com/activites/roles-avant-plan-soir-1903-
 0904/
SUMMARY:Les rôles de l'avant plan en photographie - 19 mars et 9 avril 202
 1 - 19h
DESCRIPTION:
CATEGORIES:Cours Photo
LOCATION:En ligne\,   \,   \, Canada
X-APPLE-STRUCTURED-LOCATION;VALUE=URI;X-ADDRESS=  \,   \, Canada;X-APPLE-RA
 DIUS=100;X-TITLE=En ligne:geo:0,0
END:VEVENT
BEGIN:VEVENT
UID:19@ecolecreativitephoto.com
DTSTART;TZID=America/New_York:20210322T093000
DTEND;TZID=America/New_York:20210322T113000
DTSTAMP:20210318T012724Z
URL:https://ecolecreativitephoto.com/activites/ruisseaux-printemps-matin-2
 203-1204/
SUMMARY:Ruisseaux et rivières au début du printemps - 22 mars et 12 avril
  2021 - 9h30
DESCRIPTION:
CATEGORIES:Cours Photo
LOCATION:En ligne\,   \,   \, Canada
X-APPLE-STRUCTURED-LOCATION;VALUE=URI;X-ADDRESS=  \,   \, Canada;X-APPLE-RA
 DIUS=100;X-TITLE=En ligne:geo:0,0
END:VEVENT
BEGIN:VEVENT
UID:20@ecolecreativitephoto.com
DTSTART;TZID=America/New_York:20210322T190000
DTEND;TZID=America/New_York:20210322T210000
DTSTAMP:20210215T064829Z
URL:https://ecolecreativitephoto.com/activites/ruisseaux-printemps-soir-22
 03-1204/
SUMMARY:Ruisseaux et rivières au début du printemps - 22 mars et 12 avril
  2021 - 19h
DESCRIPTION:
CATEGORIES:Cours Photo
LOCATION:En ligne\,   \,   \, Canada
X-APPLE-STRUCTURED-LOCATION;VALUE=URI;X-ADDRESS=  \,   \, Canada;X-APPLE-RA
 DIUS=100;X-TITLE=En ligne:geo:0,0
END:VEVENT
BEGIN:VEVENT
UID:53@ecolecreativitephoto.com
DTSTART;TZID=America/New_York:20210329T193000
DTEND;TZID=America/New_York:20210329T203000
DTSTAMP:20210318T233306Z
URL:https://ecolecreativitephoto.com/activites/vernissage_km_photo_2903/
SUMMARY:Vernissage virtuel Kilomètre-Photo Hiver - 29 mars 2021 - 19h30
DESCRIPTION:
CATEGORIES:Vernissage
LOCATION:En ligne\,   \,   \, Canada
X-APPLE-STRUCTURED-LOCATION;VALUE=URI;X-ADDRESS=  \,   \, Canada;X-APPLE-RA
 DIUS=100;X-TITLE=En ligne:geo:0,0
END:VEVENT
BEGIN:VEVENT
UID:21@ecolecreativitephoto.com
DTSTART;TZID=America/New_York:20210330T093000
DTEND;TZID=America/New_York:20210330T113000
DTSTAMP:20210218T235949Z
URL:https://ecolecreativitephoto.com/activites/trouver-son-style-matin-300
 3-1304/
SUMMARY:Comment trouver son style en photographie - 30 mars et 13 avril 202
 1 - 9h30
DESCRIPTION:
CATEGORIES:Cours Photo
LOCATION:En ligne\,   \,   \, Canada
X-APPLE-STRUCTURED-LOCATION;VALUE=URI;X-ADDRESS=  \,   \, Canada;X-APPLE-RA
 DIUS=100;X-TITLE=En ligne:geo:0,0
END:VEVENT
BEGIN:VEVENT
UID:22@ecolecreativitephoto.com
DTSTART;TZID=America/New_York:20210330T190000
DTEND;TZID=America/New_York:20210330T210000
DTSTAMP:20210219T000017Z
URL:https://ecolecreativitephoto.com/activites/trouver-son-style-soir-3003
 -1304/
SUMMARY:Comment trouver son style en photographie - 30 mars et 13 avril 202
 1 - 19h
DESCRIPTION:
CATEGORIES:Cours Photo
LOCATION:En ligne\,   \,   \, Canada
X-APPLE-STRUCTURED-LOCATION;VALUE=URI;X-ADDRESS=  \,   \, Canada;X-APPLE-RA
 DIUS=100;X-TITLE=En ligne:geo:0,0
END:VEVENT
BEGIN:VEVENT
UID:58@ecolecreativitephoto.com
DTSTART;TZID=America/New_York:20210414T100000
DTEND;TZID=America/New_York:20210414T110000
DTSTAMP:20210402T043416Z
URL:https://ecolecreativitephoto.com/activites/conference_1404_matin/
SUMMARY:Conférence gratuite- Photographier l'éveil du printemps  - 14 avr
 il 2021 - 10h
DESCRIPTION:
CATEGORIES:Conférence gratuite
LOCATION:En ligne\,   \,   \, Canada
X-APPLE-STRUCTURED-LOCATION;VALUE=URI;X-ADDRESS=  \,   \, Canada;X-APPLE-RA
 DIUS=100;X-TITLE=En ligne:geo:0,0
END:VEVENT
BEGIN:VEVENT
UID:59@ecolecreativitephoto.com
DTSTART;TZID=America/New_York:20210414T193000
DTEND;TZID=America/New_York:20210414T203000
DTSTAMP:20210402T043516Z
URL:https://ecolecreativitephoto.com/activites/conference_1404_soir/
SUMMARY:Conférence gratuite- Photographier l'éveil du printemps  - 14 avr
 il 2021 - 19h30
DESCRIPTION:
CATEGORIES:Conférence gratuite
LOCATION:En ligne\,   \,   \, Canada
X-APPLE-STRUCTURED-LOCATION;VALUE=URI;X-ADDRESS=  \,   \, Canada;X-APPLE-RA
 DIUS=100;X-TITLE=En ligne:geo:0,0
END:VEVENT
BEGIN:VEVENT
UID:37@ecolecreativitephoto.com
DTSTART;TZID=America/New_York:20210416T093000
DTEND;TZID=America/New_York:20210416T113000
DTSTAMP:20210228T154824Z
URL:https://ecolecreativitephoto.com/activites/kilometre_photo_vendredi_16
 04_2805_9h30/
SUMMARY:Le Kilomètre-photo - Vendredis 16 avril au 28 mai 2021 - 9h30
DESCRIPTION:
CATEGORIES:Atelier Photo
LOCATION:En présentiel\, Sur le Terrain\,   \, Canada
X-APPLE-STRUCTURED-LOCATION;VALUE=URI;X-ADDRESS=Sur le Terrain\,   \, Canad
 a;X-APPLE-RADIUS=100;X-TITLE=En présentiel:geo:0,0
END:VEVENT
BEGIN:VEVENT
UID:38@ecolecreativitephoto.com
DTSTART;TZID=America/New_York:20210417T093000
DTEND;TZID=America/New_York:20210417T113000
DTSTAMP:20210428T014611Z
URL:https://ecolecreativitephoto.com/activites/kilometre_photo_samedi_1704
 _2905_9h30/
SUMMARY:Le Kilomètre-photo - Samedis 17 avril au 29 mai 2021 - 9h30
DESCRIPTION:
CATEGORIES:Atelier Photo
LOCATION:En présentiel\, Sur le Terrain\,   \, Canada
X-APPLE-STRUCTURED-LOCATION;VALUE=URI;X-ADDRESS=Sur le Terrain\,   \, Canad
 a;X-APPLE-RADIUS=100;X-TITLE=En présentiel:geo:0,0
END:VEVENT
BEGIN:VEVENT
UID:41@ecolecreativitephoto.com
DTSTART;TZID=America/New_York:20210420T093000
DTEND;TZID=America/New_York:20210420T113000
DTSTAMP:20210402T030818Z
URL:https://ecolecreativitephoto.com/activites/atelier_photo_impressionnis
 te_matin_2004_1506/
SUMMARY:La photo impressionniste - 20 avril\, 4 et 18 mai\, 1 et 15 juin 20
 21 - 09h30
DESCRIPTION:
CATEGORIES:Atelier Photo
LOCATION:En ligne\,   \,   \, Canada
X-APPLE-STRUCTURED-LOCATION;VALUE=URI;X-ADDRESS=  \,   \, Canada;X-APPLE-RA
 DIUS=100;X-TITLE=En ligne:geo:0,0
END:VEVENT
BEGIN:VEVENT
UID:42@ecolecreativitephoto.com
DTSTART;TZID=America/New_York:20210420T190000
DTEND;TZID=America/New_York:20210420T210000
DTSTAMP:20210416T221205Z
URL:https://ecolecreativitephoto.com/activites/atelier_photo_impressionnis
 te_soir_2004_1506/
SUMMARY:La photo impressionniste - 20 avril\, 4 et 18 mai\, 1 et 15 juin 20
 21 - 19h
DESCRIPTION:
CATEGORIES:Atelier Photo
LOCATION:En ligne\,   \,   \, Canada
X-APPLE-STRUCTURED-LOCATION;VALUE=URI;X-ADDRESS=  \,   \, Canada;X-APPLE-RA
 DIUS=100;X-TITLE=En ligne:geo:0,0
END:VEVENT
BEGIN:VEVENT
UID:51@ecolecreativitephoto.com
DTSTART;TZID=America/New_York:20210427T093000
DTEND;TZID=America/New_York:20210427T113000
DTSTAMP:20210316T032715Z
URL:https://ecolecreativitephoto.com/activites/bokeh-creatif-matin-2704-11
 05/
SUMMARY:Apprivoiser le Bokeh créatif - 27 avril et 11 mai 2021 - 9h30
DESCRIPTION:
CATEGORIES:Cours Photo
LOCATION:En ligne\,   \,   \, Canada
X-APPLE-STRUCTURED-LOCATION;VALUE=URI;X-ADDRESS=  \,   \, Canada;X-APPLE-RA
 DIUS=100;X-TITLE=En ligne:geo:0,0
END:VEVENT
BEGIN:VEVENT
UID:52@ecolecreativitephoto.com
DTSTART;TZID=America/New_York:20210427T190000
DTEND;TZID=America/New_York:20210427T210000
DTSTAMP:20210317T211054Z
URL:https://ecolecreativitephoto.com/activites/bokeh-creatif-soir-2704-110
 5/
SUMMARY:Apprivoiser le Bokeh créatif - 27 avril et 11 mai 2021 - 19h
DESCRIPTION:
CATEGORIES:Cours Photo
LOCATION:En ligne\,   \,   \, Canada
X-APPLE-STRUCTURED-LOCATION;VALUE=URI;X-ADDRESS=  \,   \, Canada;X-APPLE-RA
 DIUS=100;X-TITLE=En ligne:geo:0,0
END:VEVENT
BEGIN:VEVENT
UID:39@ecolecreativitephoto.com
DTSTART;TZID=America/New_York:20210428T093000
DTEND;TZID=America/New_York:20210428T120000
DTSTAMP:20210325T022401Z
URL:https://ecolecreativitephoto.com/activites/atelier_feu_vert_matin_0704
 _2010/
SUMMARY:Le Projet Feu Vert - 28 avril\, 19 mai\, 16 juin\, 14 juillet\, 25 
 août\, 22 septembre\, 20 octobre 2021 - 09h30
DESCRIPTION:
CATEGORIES:Atelier Photo
LOCATION:En ligne\,   \,   \, Canada
X-APPLE-STRUCTURED-LOCATION;VALUE=URI;X-ADDRESS=  \,   \, Canada;X-APPLE-RA
 DIUS=100;X-TITLE=En ligne:geo:0,0
END:VEVENT
BEGIN:VEVENT
UID:40@ecolecreativitephoto.com
DTSTART;TZID=America/New_York:20210428T190000
DTEND;TZID=America/New_York:20210428T213000
DTSTAMP:20210325T023201Z
URL:https://ecolecreativitephoto.com/activites/atelier_feu_vert_soir_0704_
 2010/
SUMMARY:Le Projet Feu Vert -  28 avril\, 19 mai\, 16 juin\, 14 juillet\, 25
  août\, 22 septembre\, 20 octobre 2021 - 19h
DESCRIPTION:
CATEGORIES:Atelier Photo
LOCATION:En ligne\,   \,   \, Canada
X-APPLE-STRUCTURED-LOCATION;VALUE=URI;X-ADDRESS=  \,   \, Canada;X-APPLE-RA
 DIUS=100;X-TITLE=En ligne:geo:0,0
END:VEVENT
BEGIN:VEVENT
UID:60@ecolecreativitephoto.com
DTSTART;TZID=America/New_York:20210517T100000
DTEND;TZID=America/New_York:20210517T110000
DTSTAMP:20210517T011649Z
URL:https://ecolecreativitephoto.com/activites/conference_1705_matin/
SUMMARY:Conférence gratuite- Êtes vous un photographe chasseur ou cueille
 ur? - 17 mai 2021 - 10h
DESCRIPTION:
CATEGORIES:Conférence gratuite
LOCATION:En ligne\,   \,   \, Canada
X-APPLE-STRUCTURED-LOCATION;VALUE=URI;X-ADDRESS=  \,   \, Canada;X-APPLE-RA
 DIUS=100;X-TITLE=En ligne:geo:0,0
END:VEVENT
BEGIN:VEVENT
UID:61@ecolecreativitephoto.com
DTSTART;TZID=America/New_York:20210517T193000
DTEND;TZID=America/New_York:20210517T203000
DTSTAMP:20210517T011734Z
URL:https://ecolecreativitephoto.com/activites/conference_1705_soir/
SUMMARY:Conférence gratuite- Êtes vous  un photographe chasseur ou cueill
 eur ? - 17 mai 2021 - 19h30
DESCRIPTION:
CATEGORIES:Conférence gratuite
LOCATION:En ligne\,   \,   \, Canada
X-APPLE-STRUCTURED-LOCATION;VALUE=URI;X-ADDRESS=  \,   \, Canada;X-APPLE-RA
 DIUS=100;X-TITLE=En ligne:geo:0,0
END:VEVENT
BEGIN:VEVENT
UID:54@ecolecreativitephoto.com
DTSTART;TZID=America/New_York:20210527T093000
DTEND;TZID=America/New_York:20210527T113000
DTSTAMP:20210601T211442Z
URL:https://ecolecreativitephoto.com/activites/ligne_fuite_matin_1305_2705
 /
SUMMARY:Maitriser les lignes de fuite - 27 mai et 17 juin 2021 - 9h30
DESCRIPTION:
CATEGORIES:Cours Photo
LOCATION:En ligne\,   \,   \, Canada
X-APPLE-STRUCTURED-LOCATION;VALUE=URI;X-ADDRESS=  \,   \, Canada;X-APPLE-RA
 DIUS=100;X-TITLE=En ligne:geo:0,0
END:VEVENT
BEGIN:VEVENT
UID:55@ecolecreativitephoto.com
DTSTART;TZID=America/New_York:20210527T190000
DTEND;TZID=America/New_York:20210527T210000
DTSTAMP:20210502T165013Z
URL:https://ecolecreativitephoto.com/activites/ligne_fuite_soir_1305_2705/
SUMMARY:Maitriser les lignes de fuite - 27 mai et 17 juin 2021 - 19h
DESCRIPTION:
CATEGORIES:Cours Photo
LOCATION:En ligne\,   \,   \, Canada
X-APPLE-STRUCTURED-LOCATION;VALUE=URI;X-ADDRESS=  \,   \, Canada;X-APPLE-RA
 DIUS=100;X-TITLE=En ligne:geo:0,0
END:VEVENT
BEGIN:VEVENT
UID:56@ecolecreativitephoto.com
DTSTART;TZID=America/New_York:20210531T093000
DTEND;TZID=America/New_York:20210531T113000
DTSTAMP:20210330T025447Z
URL:https://ecolecreativitephoto.com/activites/trouver_style_matin_3105_21
 06/
SUMMARY:Comment trouver son style en photographie - 31 mai et 21 juin 2021 
 - 9h30
DESCRIPTION:
CATEGORIES:Cours Photo
LOCATION:En ligne\,   \,   \, Canada
X-APPLE-STRUCTURED-LOCATION;VALUE=URI;X-ADDRESS=  \,   \, Canada;X-APPLE-RA
 DIUS=100;X-TITLE=En ligne:geo:0,0
END:VEVENT
BEGIN:VEVENT
UID:57@ecolecreativitephoto.com
DTSTART;TZID=America/New_York:20210531T190000
DTEND;TZID=America/New_York:20210531T210000
DTSTAMP:20210330T025505Z
URL:https://ecolecreativitephoto.com/activites/trouver_style_soir_3105_210
 6/
SUMMARY:Comment trouver son style en photographie - 31 mai et 21 juin  2021
  - 19h
DESCRIPTION:
CATEGORIES:Cours Photo
LOCATION:En ligne\,   \,   \, Canada
X-APPLE-STRUCTURED-LOCATION;VALUE=URI;X-ADDRESS=  \,   \, Canada;X-APPLE-RA
 DIUS=100;X-TITLE=En ligne:geo:0,0
END:VEVENT
BEGIN:VEVENT
UID:71@ecolecreativitephoto.com
DTSTART;TZID=America/New_York:20210622T100000
DTEND;TZID=America/New_York:20210622T110000
DTSTAMP:20210606T141450Z
URL:https://ecolecreativitephoto.com/activites/conference_2206_matin/
SUMMARY:Conférence gratuite- Femmes photographes d'hier et aujourd'hui - 2
 2 juin 2021 - 10h
DESCRIPTION:
CATEGORIES:Conférence gratuite
LOCATION:En ligne\,   \,   \, Canada
X-APPLE-STRUCTURED-LOCATION;VALUE=URI;X-ADDRESS=  \,   \, Canada;X-APPLE-RA
 DIUS=100;X-TITLE=En ligne:geo:0,0
END:VEVENT
BEGIN:VEVENT
UID:72@ecolecreativitephoto.com
DTSTART;TZID=America/New_York:20210622T193000
DTEND;TZID=America/New_York:20210622T203000
DTSTAMP:20210605T155045Z
URL:https://ecolecreativitephoto.com/activites/conference_2206_soir/
SUMMARY:Conférence gratuite- Femmes photographes d'hier et aujourd'hui - 2
 2 juin 2021 - 19h30
DESCRIPTION:
CATEGORIES:Conférence gratuite
LOCATION:En ligne\,   \,   \, Canada
X-APPLE-STRUCTURED-LOCATION;VALUE=URI;X-ADDRESS=  \,   \, Canada;X-APPLE-RA
 DIUS=100;X-TITLE=En ligne:geo:0,0
END:VEVENT
BEGIN:VEVENT
UID:77@ecolecreativitephoto.com
DTSTART;TZID=America/New_York:20210625T193000
DTEND;TZID=America/New_York:20210625T210000
DTSTAMP:20210624T231315Z
URL:https://ecolecreativitephoto.com/activites/vernissage-impressionniste-
 2506/
SUMMARY:Vernissage virtuel La photo impressionniste - 25 juin 2021 - 19h30
DESCRIPTION:
CATEGORIES:Vernissage
LOCATION:En ligne\,   \,   \, Canada
X-APPLE-STRUCTURED-LOCATION;VALUE=URI;X-ADDRESS=  \,   \, Canada;X-APPLE-RA
 DIUS=100;X-TITLE=En ligne:geo:0,0
END:VEVENT
BEGIN:VEVENT
UID:62@ecolecreativitephoto.com
DTSTART;TZID=America/New_York:20210628T093000
DTEND;TZID=America/New_York:20210628T113000
DTSTAMP:20210504T023612Z
URL:https://ecolecreativitephoto.com/activites/apprivoiser-le-bokeh-creati
 f-28-juin-et-12-juillet-2021-9h30/
SUMMARY:Apprivoiser le Bokeh créatif - 28 juin et 12 juillet 2021 - 9h30
DESCRIPTION:
CATEGORIES:Cours Photo
LOCATION:En ligne\,   \,   \, Canada
X-APPLE-STRUCTURED-LOCATION;VALUE=URI;X-ADDRESS=  \,   \, Canada;X-APPLE-RA
 DIUS=100;X-TITLE=En ligne:geo:0,0
END:VEVENT
BEGIN:VEVENT
UID:63@ecolecreativitephoto.com
DTSTART;TZID=America/New_York:20210628T190000
DTEND;TZID=America/New_York:20210628T210000
DTSTAMP:20210504T023622Z
URL:https://ecolecreativitephoto.com/activites/bokeh-creatif-soir-2806-120
 7/
SUMMARY:Apprivoiser le Bokeh créatif - 28 juin et 12 juillet 2021 - 19h
DESCRIPTION:
CATEGORIES:Cours Photo
LOCATION:En ligne\,   \,   \, Canada
X-APPLE-STRUCTURED-LOCATION;VALUE=URI;X-ADDRESS=  \,   \, Canada;X-APPLE-RA
 DIUS=100;X-TITLE=En ligne:geo:0,0
END:VEVENT
BEGIN:VEVENT
UID:69@ecolecreativitephoto.com
DTSTART;TZID=America/New_York:20210629T093000
DTEND;TZID=America/New_York:20210629T113000
DTSTAMP:20210505T223004Z
URL:https://ecolecreativitephoto.com/activites/inspiration_femme_matin_290
 6_2007/
SUMMARY:S'inspirer des femmes photographes - 29  juin et 20 juillet 2021 - 
 9h30
DESCRIPTION:
CATEGORIES:Cours Photo
LOCATION:En ligne\,   \,   \, Canada
X-APPLE-STRUCTURED-LOCATION;VALUE=URI;X-ADDRESS=  \,   \, Canada;X-APPLE-RA
 DIUS=100;X-TITLE=En ligne:geo:0,0
END:VEVENT
BEGIN:VEVENT
UID:70@ecolecreativitephoto.com
DTSTART;TZID=America/New_York:20210629T190000
DTEND;TZID=America/New_York:20210629T210000
DTSTAMP:20210505T223013Z
URL:https://ecolecreativitephoto.com/activites/inspiration_femme_soir_2906
 _2007/
SUMMARY:S'inspirer des femmes photographes - 29  juin et 20 juillet 2021 - 
 19h
DESCRIPTION:
CATEGORIES:Cours Photo
LOCATION:En ligne\,   \,   \, Canada
X-APPLE-STRUCTURED-LOCATION;VALUE=URI;X-ADDRESS=  \,   \, Canada;X-APPLE-RA
 DIUS=100;X-TITLE=En ligne:geo:0,0
END:VEVENT
BEGIN:VEVENT
UID:64@ecolecreativitephoto.com
DTSTART;TZID=America/New_York:20210702T100000
DTEND;TZID=America/New_York:20210702T150000
DTSTAMP:20210703T024755Z
URL:https://ecolecreativitephoto.com/activites/kilometre-photo-ete-vendred
 is-2021-9h30/
SUMMARY:Le Kilomètre-photo Été - Vendredis 2\, 16 juillet et 6\, 20 aoû
 t- 10h00
DESCRIPTION:
CATEGORIES:Atelier Photo
LOCATION:En présentiel\, Sur le Terrain\,   \, Canada
X-APPLE-STRUCTURED-LOCATION;VALUE=URI;X-ADDRESS=Sur le Terrain\,   \, Canad
 a;X-APPLE-RADIUS=100;X-TITLE=En présentiel:geo:0,0
END:VEVENT
BEGIN:VEVENT
UID:65@ecolecreativitephoto.com
DTSTART;TZID=America/New_York:20210703T100000
DTEND;TZID=America/New_York:20210703T150000
DTSTAMP:20210703T024516Z
URL:https://ecolecreativitephoto.com/activites/kilometre-photo-ete-samedis
 -2021-9h30/
SUMMARY:Le Kilomètre-photo Été - Samedis 3\, 17 juillet et 7\, 21 août-
  10h00
DESCRIPTION:
CATEGORIES:Atelier Photo
LOCATION:En présentiel\, Sur le Terrain\,   \, Canada
X-APPLE-STRUCTURED-LOCATION;VALUE=URI;X-ADDRESS=Sur le Terrain\,   \, Canad
 a;X-APPLE-RADIUS=100;X-TITLE=En présentiel:geo:0,0
END:VEVENT
BEGIN:VEVENT
UID:80@ecolecreativitephoto.com
DTSTART;TZID=America/New_York:20210707T193000
DTEND;TZID=America/New_York:20210707T210000
DTSTAMP:20210626T003430Z
URL:https://ecolecreativitephoto.com/activites/vernissage-intuitive-0707/
SUMMARY:Vernissage virtuel La photo intuitive - 7 juillet 2021 - 19h30
DESCRIPTION:
CATEGORIES:Vernissage
LOCATION:En ligne\,   \,   \, Canada
X-APPLE-STRUCTURED-LOCATION;VALUE=URI;X-ADDRESS=  \,   \, Canada;X-APPLE-RA
 DIUS=100;X-TITLE=En ligne:geo:0,0
END:VEVENT
BEGIN:VEVENT
UID:75@ecolecreativitephoto.com
DTSTART;TZID=America/New_York:20210805T093000
DTEND;TZID=America/New_York:20210805T113000
DTSTAMP:20210605T183708Z
URL:https://ecolecreativitephoto.com/activites/reflets-impressionnistes-ma
 tin-0508-2608/
SUMMARY:Maîtriser les reflets impressionnistes - 5 et 26 Août 2021 - 9h30
DESCRIPTION:
CATEGORIES:Cours Photo
LOCATION:En ligne\,   \,   \, Canada
X-APPLE-STRUCTURED-LOCATION;VALUE=URI;X-ADDRESS=  \,   \, Canada;X-APPLE-RA
 DIUS=100;X-TITLE=En ligne:geo:0,0
END:VEVENT
BEGIN:VEVENT
UID:76@ecolecreativitephoto.com
DTSTART;TZID=America/New_York:20210805T190000
DTEND;TZID=America/New_York:20210805T210000
DTSTAMP:20210605T181331Z
URL:https://ecolecreativitephoto.com/activites/reflets-impressionnistes-so
 lir-0508-2608/
SUMMARY:Maîtriser les reflets impressionnistes - 5 et 26 Août 2021 - 19h
DESCRIPTION:
CATEGORIES:Cours Photo
LOCATION:En ligne\,   \,   \, Canada
X-APPLE-STRUCTURED-LOCATION;VALUE=URI;X-ADDRESS=  \,   \, Canada;X-APPLE-RA
 DIUS=100;X-TITLE=En ligne:geo:0,0
END:VEVENT
BEGIN:VEVENT
UID:88@ecolecreativitephoto.com
DTSTART;TZID=America/New_York:20210811T100000
DTEND;TZID=America/New_York:20210811T110000
DTSTAMP:20210731T145002Z
URL:https://ecolecreativitephoto.com/activites/conference_1108_matin/
SUMMARY:Conférence gratuite- Les 11 bonnes façons de faire de la photo - 
 11 août 2021 - 10h
DESCRIPTION:
CATEGORIES:Conférence gratuite
LOCATION:En ligne\,   \,   \, Canada
X-APPLE-STRUCTURED-LOCATION;VALUE=URI;X-ADDRESS=  \,   \, Canada;X-APPLE-RA
 DIUS=100;X-TITLE=En ligne:geo:0,0
END:VEVENT
BEGIN:VTIMEZONE
TZID:America/New_York
X-LIC-LOCATION:America/New_York
BEGIN:STANDARD
DTSTART:20201101T010000
TZOFFSETFROM:-0400
TZOFFSETTO:-0500
TZNAME:EST
END:STANDARD
BEGIN:DAYLIGHT
DTSTART:20210314T030000
TZOFFSETFROM:-0500
TZOFFSETTO:-0400
TZNAME:EDT
END:DAYLIGHT
END:VTIMEZONE
END:VCALENDAR