BEGIN:VCALENDAR
VERSION:2.0
PRODID:-//wp-events-plugin.com//7.2.3.1//EN
TZID:America/New_York
X-WR-TIMEZONE:America/New_York
BEGIN:VEVENT
UID:245@ecolecreativitephoto.com
DTSTART;TZID=America/New_York;VALUE=DATE:20240608
DTEND;TZID=America/New_York;VALUE=DATE:20240609
DTSTAMP:20230605T012719Z
URL:https://ecolecreativitephoto.com/activites/charlevoix-2024/
SUMMARY:Charlevoix hors des sentiers battus - 8 au 14 Juin 2024
DESCRIPTION:Charlevoix hors des sentiers battus - 8 au 14 Juin 2024
CATEGORIES:Vacances Photo
LOCATION:Charlevoix\, 245 Rue Saint Laurent\, Saint Siméon\, Charlevoix\, 
 Canada
X-APPLE-STRUCTURED-LOCATION;VALUE=URI;X-ADDRESS=245 Rue Saint Laurent\, Sai
 nt Siméon\, Charlevoix\, Canada;X-APPLE-RADIUS=100;X-TITLE=Charlevoix:geo
 :0,0
END:VEVENT
BEGIN:VTIMEZONE
TZID:America/New_York
X-LIC-LOCATION:America/New_York
BEGIN:DAYLIGHT
DTSTART:20240310T030000
TZOFFSETFROM:-0500
TZOFFSETTO:-0400
TZNAME:EDT
END:DAYLIGHT
END:VTIMEZONE
END:VCALENDAR