BEGIN:VCALENDAR
VERSION:2.0
PRODID:-//wp-events-plugin.com//7.2.3.1//EN
TZID:America/New_York
X-WR-TIMEZONE:America/New_York
BEGIN:VEVENT
UID:389@ecolecreativitephoto.com
DTSTART;TZID=America/New_York:20260317T100000
DTEND;TZID=America/New_York:20260317T120000
DTSTAMP:20260127T005332Z
URL:https://ecolecreativitephoto.com/activites/club-photo-impressionniste-
 17-mars-au-14-novembre-2026-10h00/
SUMMARY:Club photo impressionniste - 17 mars au 17 novembre 2026 - 10h00
DESCRIPTION:Club photo impressionniste - 17 mars au 17 novembre 2026 - 10h0
 0
CATEGORIES:Club photo impressionniste
LOCATION:En ligne\,   \,   \, Canada
X-APPLE-STRUCTURED-LOCATION;VALUE=URI;X-ADDRESS=  \,   \, Canada;X-APPLE-RA
 DIUS=100;X-TITLE=En ligne:geo:0,0
END:VEVENT
BEGIN:VTIMEZONE
TZID:America/New_York
X-LIC-LOCATION:America/New_York
BEGIN:DAYLIGHT
DTSTART:20260308T030000
TZOFFSETFROM:-0500
TZOFFSETTO:-0400
TZNAME:EDT
END:DAYLIGHT
END:VTIMEZONE
END:VCALENDAR