BEGIN:VCALENDAR
VERSION:2.0
PRODID:-//wp-events-plugin.com//7.2.3.1//EN
TZID:America/New_York
X-WR-TIMEZONE:America/New_York
BEGIN:VEVENT
UID:368@ecolecreativitephoto.com
DTSTART;TZID=America/New_York:20250705T093000
DTEND;TZID=America/New_York:20250705T140000
DTSTAMP:20250529T092635Z
URL:https://ecolecreativitephoto.com/activites/combo-ete-2025-le-kilometre
 -photo-ete-brome-missisquoi-et-kilometre-photo-ete-mtl-8-sorties/
SUMMARY:Le Combo Kilomètre-photo été Brome-Missisquoi et Kilomètre-phot
 o été Montréal : 8 sorties au choix et 3 visionnements en ligne
DESCRIPTION:Le COMBO été 2025 de 8 sorties au choix et 3 visionnements en
  ligne : Kilomètre-photo été Brome-Missisquoi et Kilomètre-photo été
  Montréal
CATEGORIES:Atelier Photo
LOCATION:En présentiel\, Sur le Terrain\,   \, Canada
X-APPLE-STRUCTURED-LOCATION;VALUE=URI;X-ADDRESS=Sur le Terrain\,   \, Canad
 a;X-APPLE-RADIUS=100;X-TITLE=En présentiel:geo:0,0
END:VEVENT
BEGIN:VTIMEZONE
TZID:America/New_York
X-LIC-LOCATION:America/New_York
BEGIN:DAYLIGHT
DTSTART:20250309T030000
TZOFFSETFROM:-0500
TZOFFSETTO:-0400
TZNAME:EDT
END:DAYLIGHT
END:VTIMEZONE
END:VCALENDAR