BEGIN:VCALENDAR
VERSION:2.0
PRODID:-//wp-events-plugin.com//7.2.3.1//EN
TZID:America/New_York
X-WR-TIMEZONE:America/New_York
BEGIN:VEVENT
UID:294@ecolecreativitephoto.com
DTSTART;TZID=America/New_York;VALUE=DATE:20240415
DTEND;TZID=America/New_York;VALUE=DATE:20240516
DTSTAMP:20240517T033408Z
URL:https://ecolecreativitephoto.com/activites/concours-impressionniste-20
 24/
SUMMARY:Concours Coups de coeur de la photo impressionniste
DESCRIPTION:Concours Coups de coeur de la photo impressionniste\njusqu'au 1
 5 mai 2024
CATEGORIES:Concours
LOCATION:En ligne\,   \,   \, Canada
X-APPLE-STRUCTURED-LOCATION;VALUE=URI;X-ADDRESS=  \,   \, Canada;X-APPLE-RA
 DIUS=100;X-TITLE=En ligne:geo:0,0
END:VEVENT
BEGIN:VTIMEZONE
TZID:America/New_York
X-LIC-LOCATION:America/New_York
BEGIN:DAYLIGHT
DTSTART:20240310T030000
TZOFFSETFROM:-0500
TZOFFSETTO:-0400
TZNAME:EDT
END:DAYLIGHT
END:VTIMEZONE
END:VCALENDAR