BEGIN:VCALENDAR
VERSION:2.0
PRODID:-//wp-events-plugin.com//7.2.3.1//EN
TZID:America/New_York
X-WR-TIMEZONE:America/New_York
BEGIN:VEVENT
UID:312@ecolecreativitephoto.com
DTSTART;TZID=America/New_York:20240627T093000
DTEND;TZID=America/New_York:20240627T113000
DTSTAMP:20240520T231845Z
URL:https://ecolecreativitephoto.com/activites/cours-bokeh-creatif-matin-2
 706-1807/
SUMMARY:Apprivoiser le Bokeh créatif - 27 juin et 18 juillet 2024 - 9h30
DESCRIPTION:Apprivoiser le Bokeh créatif - 27 juin et 18 juillet 2024 - 9h
 30
CATEGORIES:Cours Photo
LOCATION:En ligne\,   \,   \, Canada
X-APPLE-STRUCTURED-LOCATION;VALUE=URI;X-ADDRESS=  \,   \, Canada;X-APPLE-RA
 DIUS=100;X-TITLE=En ligne:geo:0,0
END:VEVENT
BEGIN:VTIMEZONE
TZID:America/New_York
X-LIC-LOCATION:America/New_York
BEGIN:DAYLIGHT
DTSTART:20240310T030000
TZOFFSETFROM:-0500
TZOFFSETTO:-0400
TZNAME:EDT
END:DAYLIGHT
END:VTIMEZONE
END:VCALENDAR