BEGIN:VCALENDAR
VERSION:2.0
PRODID:-//wp-events-plugin.com//7.2.3.1//EN
TZID:America/New_York
X-WR-TIMEZONE:America/New_York
BEGIN:VEVENT
UID:317@ecolecreativitephoto.com
DTSTART;TZID=America/New_York:20241010T093000
DTEND;TZID=America/New_York:20241010T113000
DTSTAMP:20240818T202704Z
URL:https://ecolecreativitephoto.com/activites/cours-reflets-matin-1010-07
 11/
SUMMARY:Tous les styles de reflets impressionnistes - 10 octobre et 7 novem
 bre 2024 - 9h30
DESCRIPTION:Tous les styles de reflets impressionnistes -\nmercredis 10 oct
 obre et 7 novembre 2024 - 9h30
CATEGORIES:Cours Photo
LOCATION:En ligne\,   \,   \, Canada
X-APPLE-STRUCTURED-LOCATION;VALUE=URI;X-ADDRESS=  \,   \, Canada;X-APPLE-RA
 DIUS=100;X-TITLE=En ligne:geo:0,0
END:VEVENT
BEGIN:VTIMEZONE
TZID:America/New_York
X-LIC-LOCATION:America/New_York
BEGIN:DAYLIGHT
DTSTART:20240310T030000
TZOFFSETFROM:-0500
TZOFFSETTO:-0400
TZNAME:EDT
END:DAYLIGHT
END:VTIMEZONE
END:VCALENDAR