BEGIN:VCALENDAR
VERSION:2.0
PRODID:-//wp-events-plugin.com//7.2.3.1//EN
TZID:America/New_York
X-WR-TIMEZONE:America/New_York
BEGIN:VEVENT
UID:381@ecolecreativitephoto.com
DTSTART;TZID=America/New_York;VALUE=DATE:20260811
DTEND;TZID=America/New_York;VALUE=DATE:20260818
DTSTAMP:20260219T113949Z
URL:https://ecolecreativitephoto.com/activites/ile-verte-floraison-2026/
SUMMARY:L'Île Verte en pleine floraison
DESCRIPTION:L'Île Verte en pleine floraison
CATEGORIES:Vacances Photo
LOCATION:L'Île Verte\, Maison du Phare\, Notre-Dame-des-Sept-Douleurs\, Ba
 s St Laurent\, Canada
X-APPLE-STRUCTURED-LOCATION;VALUE=URI;X-ADDRESS=Maison du Phare\, Notre-Dam
 e-des-Sept-Douleurs\, Bas St Laurent\, Canada;X-APPLE-RADIUS=100;X-TITLE=L
 'Île Verte:geo:0,0
END:VEVENT
BEGIN:VTIMEZONE
TZID:America/New_York
X-LIC-LOCATION:America/New_York
BEGIN:DAYLIGHT
DTSTART:20260308T030000
TZOFFSETFROM:-0500
TZOFFSETTO:-0400
TZNAME:EDT
END:DAYLIGHT
END:VTIMEZONE
END:VCALENDAR