BEGIN:VCALENDAR
VERSION:2.0
PRODID:-//wp-events-plugin.com//7.2.3.1//EN
TZID:America/New_York
X-WR-TIMEZONE:America/New_York
BEGIN:VEVENT
UID:393@ecolecreativitephoto.com
DTSTART;TZID=America/New_York:20260117T093000
DTEND;TZID=America/New_York:20260117T120000
DTSTAMP:20251121T220841Z
URL:https://ecolecreativitephoto.com/activites/km-hiver-2026-samedi/
SUMMARY:Le Kilomètre-photo - Hiver - Samedis 17 janvier au 21 février et 
 7 mars 2026 - 9h30
DESCRIPTION:Le Kilomètre-photo - Hiver - Samedis 17 janvier au 21 février
  et 7 mars 2026 - 9h30
CATEGORIES:Atelier Photo
LOCATION:En présentiel\, Sur le Terrain\,   \, Canada
X-APPLE-STRUCTURED-LOCATION;VALUE=URI;X-ADDRESS=Sur le Terrain\,   \, Canad
 a;X-APPLE-RADIUS=100;X-TITLE=En présentiel:geo:0,0
END:VEVENT
BEGIN:VTIMEZONE
TZID:America/New_York
X-LIC-LOCATION:America/New_York
BEGIN:STANDARD
DTSTART:20251102T010000
TZOFFSETFROM:-0400
TZOFFSETTO:-0500
TZNAME:EST
END:STANDARD
END:VTIMEZONE
END:VCALENDAR