BEGIN:VCALENDAR
VERSION:2.0
PRODID:-//wp-events-plugin.com//7.2.3.1//EN
TZID:America/New_York
X-WR-TIMEZONE:America/New_York
BEGIN:VEVENT
UID:392@ecolecreativitephoto.com
DTSTART;TZID=America/New_York:20260116T093000
DTEND;TZID=America/New_York:20260116T120000
DTSTAMP:20251121T220607Z
URL:https://ecolecreativitephoto.com/activites/km-hiver-2026-vendredi/
SUMMARY:Le Kilomètre-photo - Hiver - Vendredis 16 janvier au 20 février e
 t 6 mars 2026 - 9h30
DESCRIPTION:Le Kilomètre-photo - Hiver - Vendredis 16 janvier au 20 févri
 er et 6 mars 2026 - 9h30
CATEGORIES:Atelier Photo
LOCATION:En présentiel\, Sur le Terrain\,   \, Canada
X-APPLE-STRUCTURED-LOCATION;VALUE=URI;X-ADDRESS=Sur le Terrain\,   \, Canad
 a;X-APPLE-RADIUS=100;X-TITLE=En présentiel:geo:0,0
END:VEVENT
BEGIN:VTIMEZONE
TZID:America/New_York
X-LIC-LOCATION:America/New_York
BEGIN:STANDARD
DTSTART:20251102T010000
TZOFFSETFROM:-0400
TZOFFSETTO:-0500
TZNAME:EST
END:STANDARD
END:VTIMEZONE
END:VCALENDAR