BEGIN:VCALENDAR
VERSION:2.0
PRODID:-//wp-events-plugin.com//7.2.3.1//EN
TZID:America/New_York
X-WR-TIMEZONE:America/New_York
BEGIN:VEVENT
UID:349@ecolecreativitephoto.com
DTSTART;TZID=America/New_York;VALUE=DATE:20251011
DTEND;TZID=America/New_York;VALUE=DATE:20251012
DTSTAMP:20250113T210023Z
URL:https://ecolecreativitephoto.com/activites/lautomne-du-fjord-du-saguen
 ay-automne-2025/
SUMMARY:L'Automne du Fjord du Saguenay - Automne 2025
DESCRIPTION:L'Automne du Fjord du Saguenay - Automne 2025
CATEGORIES:Vacances Photo
LOCATION:En présentiel\, Sur le Terrain\,   \, Canada
X-APPLE-STRUCTURED-LOCATION;VALUE=URI;X-ADDRESS=Sur le Terrain\,   \, Canad
 a;X-APPLE-RADIUS=100;X-TITLE=En présentiel:geo:0,0
END:VEVENT
BEGIN:VTIMEZONE
TZID:America/New_York
X-LIC-LOCATION:America/New_York
BEGIN:DAYLIGHT
DTSTART:20250309T030000
TZOFFSETFROM:-0500
TZOFFSETTO:-0400
TZNAME:EDT
END:DAYLIGHT
END:VTIMEZONE
END:VCALENDAR