BEGIN:VCALENDAR
VERSION:2.0
PRODID:-//wp-events-plugin.com//7.2.3.1//EN
TZID:America/New_York
X-WR-TIMEZONE:America/New_York
BEGIN:VEVENT
UID:371@ecolecreativitephoto.com
DTSTART;TZID=America/New_York:20250705T093000
DTEND;TZID=America/New_York:20250705T140000
DTSTAMP:20250529T212944Z
URL:https://ecolecreativitephoto.com/activites/le-combo-kilometre-photo-et
 e-et-kilometre-photo-montreal-de-4-sorties-au-choix-et-3-visionnements-en-
 ligne/
SUMMARY:Le Combo Kilomètre-photo été et Kilomètre-photo Montréal : 4 s
 orties au choix et 3 visionnements en ligne
DESCRIPTION:Les Combos de l'été 2025 : de 4 sorties au choix et 3 visionn
 ements en ligne parmi les sorties du Kilomètre-photo été et du Kilomèt
 re-photo Montréal
CATEGORIES:Atelier Photo
LOCATION:En présentiel\, Sur le Terrain\,   \, Canada
X-APPLE-STRUCTURED-LOCATION;VALUE=URI;X-ADDRESS=Sur le Terrain\,   \, Canad
 a;X-APPLE-RADIUS=100;X-TITLE=En présentiel:geo:0,0
END:VEVENT
BEGIN:VTIMEZONE
TZID:America/New_York
X-LIC-LOCATION:America/New_York
BEGIN:DAYLIGHT
DTSTART:20250309T030000
TZOFFSETFROM:-0500
TZOFFSETTO:-0400
TZNAME:EDT
END:DAYLIGHT
END:VTIMEZONE
END:VCALENDAR