BEGIN:VCALENDAR
VERSION:2.0
PRODID:-//wp-events-plugin.com//7.2.3.1//EN
TZID:America/New_York
X-WR-TIMEZONE:America/New_York
BEGIN:VEVENT
UID:377@ecolecreativitephoto.com
DTSTART;TZID=America/New_York:20251115T093000
DTEND;TZID=America/New_York:20251115T120000
DTSTAMP:20250811T014305Z
URL:https://ecolecreativitephoto.com/activites/le-kilometre-photo-montreal
 -automne-samedis-15-novembre-au-13-decembre-2025-9h30/
SUMMARY:Le Kilomètre-photo Montréal - Automne - Samedis 15 novembre au 13
  décembre 2025 - 9h30
DESCRIPTION:Le Kilomètre-photo Montréal - Automne - 15 novembre au 13 dé
 cembre 2025 - 9h30
CATEGORIES:Atelier Photo
LOCATION:En présentiel\, Sur le Terrain\,   \, Canada
X-APPLE-STRUCTURED-LOCATION;VALUE=URI;X-ADDRESS=Sur le Terrain\,   \, Canad
 a;X-APPLE-RADIUS=100;X-TITLE=En présentiel:geo:0,0
END:VEVENT
BEGIN:VTIMEZONE
TZID:America/New_York
X-LIC-LOCATION:America/New_York
BEGIN:STANDARD
DTSTART:20251102T010000
TZOFFSETFROM:-0400
TZOFFSETTO:-0500
TZNAME:EST
END:STANDARD
END:VTIMEZONE
END:VCALENDAR