BEGIN:VCALENDAR
VERSION:2.0
PRODID:-//wp-events-plugin.com//7.2.3.1//EN
TZID:America/New_York
X-WR-TIMEZONE:America/New_York
BEGIN:VEVENT
UID:353@ecolecreativitephoto.com
DTSTART;TZID=America/New_York:20250315T093000
DTEND;TZID=America/New_York:20250315T120000
DTSTAMP:20250315T122933Z
URL:https://ecolecreativitephoto.com/activites/le-kilometre-photo-montreal
 -samedis-15-mars-au-19-avril-2025-9h30/
SUMMARY:Le Kilomètre-photo - Montréal - Samedis 15 mars au 19 avril 2025 
 - 9h30
DESCRIPTION:Le Kilomètre-photo - Montréal - Samedis 15 mars au 19 avril 2
 025 - 9h30
CATEGORIES:Atelier Photo
LOCATION:En présentiel\, Sur le Terrain\,   \, Canada
X-APPLE-STRUCTURED-LOCATION;VALUE=URI;X-ADDRESS=Sur le Terrain\,   \, Canad
 a;X-APPLE-RADIUS=100;X-TITLE=En présentiel:geo:0,0
END:VEVENT
BEGIN:VTIMEZONE
TZID:America/New_York
X-LIC-LOCATION:America/New_York
BEGIN:DAYLIGHT
DTSTART:20250309T030000
TZOFFSETFROM:-0500
TZOFFSETTO:-0400
TZNAME:EDT
END:DAYLIGHT
END:VTIMEZONE
END:VCALENDAR