BEGIN:VCALENDAR
VERSION:2.0
PRODID:-//wp-events-plugin.com//7.2.3.1//EN
TZID:America/New_York
X-WR-TIMEZONE:America/New_York
BEGIN:VEVENT
UID:387@ecolecreativitephoto.com
DTSTART;TZID=America/New_York:20260506T190000
DTEND;TZID=America/New_York:20260506T213000
DTSTAMP:20251101T180201Z
URL:https://ecolecreativitephoto.com/activites/le-projet-feu-vert-xxv-6-ma
 i-au-19-novembre-2026-19h00/
SUMMARY:Le Projet Feu Vert XXV- 6 mai au 18 novembre 2026 - 19h00
DESCRIPTION:Le Projet Feu Vert XXV - Mercredis 6 mai au 18 novembre 2026 - 
 19h00
CATEGORIES:Atelier Photo
LOCATION:En ligne\,   \,   \, Canada
X-APPLE-STRUCTURED-LOCATION;VALUE=URI;X-ADDRESS=  \,   \, Canada;X-APPLE-RA
 DIUS=100;X-TITLE=En ligne:geo:0,0
END:VEVENT
BEGIN:VTIMEZONE
TZID:America/New_York
X-LIC-LOCATION:America/New_York
BEGIN:DAYLIGHT
DTSTART:20260308T030000
TZOFFSETFROM:-0500
TZOFFSETTO:-0400
TZNAME:EDT
END:DAYLIGHT
END:VTIMEZONE
END:VCALENDAR