BEGIN:VCALENDAR
VERSION:2.0
PRODID:-//wp-events-plugin.com//7.2.3.1//EN
TZID:America/New_York
X-WR-TIMEZONE:America/New_York
BEGIN:VEVENT
UID:395@ecolecreativitephoto.com
DTSTART;TZID=America/New_York;VALUE=DATE:20260927
DTEND;TZID=America/New_York;VALUE=DATE:20261004
DTSTAMP:20251106T205534Z
URL:https://ecolecreativitephoto.com/activites/megantic-2026/
SUMMARY:Mégantic d’art et de nature 2026
DESCRIPTION:Mégantic d’art et de nature 2026
CATEGORIES:Vacances Photo
LOCATION:Mégantic\, 203 Chem. de la Fôret Enchantée\, Val-Racine\, Canad
 a
X-APPLE-STRUCTURED-LOCATION;VALUE=URI;X-ADDRESS=203 Chem. de la Fôret Ench
 antée\, Val-Racine\, Canada;X-APPLE-RADIUS=100;X-TITLE=Mégantic:geo:0,0
END:VEVENT
BEGIN:VTIMEZONE
TZID:America/New_York
X-LIC-LOCATION:America/New_York
BEGIN:DAYLIGHT
DTSTART:20260308T030000
TZOFFSETFROM:-0500
TZOFFSETTO:-0400
TZNAME:EDT
END:DAYLIGHT
END:VTIMEZONE
END:VCALENDAR