BEGIN:VCALENDAR
VERSION:2.0
PRODID:-//wp-events-plugin.com//7.2.3.1//EN
TZID:America/New_York
X-WR-TIMEZONE:America/New_York
BEGIN:VEVENT
UID:248@ecolecreativitephoto.com
DTSTART;TZID=America/New_York;VALUE=DATE:20240930
DTEND;TZID=America/New_York;VALUE=DATE:20241007
DTSTAMP:20230718T210152Z
URL:https://ecolecreativitephoto.com/activites/metis-2024/
SUMMARY:L'automne à Métis-sur-Mer - 30 Septembre au 6 Octobre 2024
DESCRIPTION:L'automne à Métis-sur-Mer - 30 Septembre au 6 Octobre 2024
CATEGORIES:Vacances Photo
LOCATION:Métis-sur-Mer\, Chemin Patton\, Métis-sur-Mer\, Gaspésie\, Cana
 da
X-APPLE-STRUCTURED-LOCATION;VALUE=URI;X-ADDRESS=Chemin Patton\, Métis-sur-
 Mer\, Gaspésie\, Canada;X-APPLE-RADIUS=100;X-TITLE=Métis-sur-Mer:geo:0,0
END:VEVENT
BEGIN:VTIMEZONE
TZID:America/New_York
X-LIC-LOCATION:America/New_York
BEGIN:DAYLIGHT
DTSTART:20240310T030000
TZOFFSETFROM:-0500
TZOFFSETTO:-0400
TZNAME:EDT
END:DAYLIGHT
END:VTIMEZONE
END:VCALENDAR