BEGIN:VCALENDAR
VERSION:2.0
PRODID:-//wp-events-plugin.com//7.2.3.1//EN
TZID:America/New_York
X-WR-TIMEZONE:America/New_York
BEGIN:VEVENT
UID:340@ecolecreativitephoto.com
DTSTART;TZID=America/New_York:20250522T190000
DTEND;TZID=America/New_York:20250522T210000
DTSTAMP:20250408T175805Z
URL:https://ecolecreativitephoto.com/activites/miap-soir-2205-1206-1007/
SUMMARY:Apprenez à maîtriser le MIAP - Jeudis 22 mai\, 12 juin et 10 juil
 let 2025  - 19h00
DESCRIPTION:Apprenez à maîtriser les MIAP - Jeudis 22 mai\, 12 juin et 10
  juillet 2025 - 19h00
CATEGORIES:Atelier Photo
LOCATION:En ligne\,   \,   \, Canada
X-APPLE-STRUCTURED-LOCATION;VALUE=URI;X-ADDRESS=  \,   \, Canada;X-APPLE-RA
 DIUS=100;X-TITLE=En ligne:geo:0,0
END:VEVENT
BEGIN:VTIMEZONE
TZID:America/New_York
X-LIC-LOCATION:America/New_York
BEGIN:DAYLIGHT
DTSTART:20250309T030000
TZOFFSETFROM:-0500
TZOFFSETTO:-0400
TZNAME:EDT
END:DAYLIGHT
END:VTIMEZONE
END:VCALENDAR