BEGIN:VCALENDAR
VERSION:2.0
PRODID:-//wp-events-plugin.com//7.2.3.1//EN
TZID:America/New_York
X-WR-TIMEZONE:America/New_York
BEGIN:VEVENT
UID:394@ecolecreativitephoto.com
DTSTART;TZID=America/New_York:20260501T193000
DTEND;TZID=America/New_York:20260529T220000
DTSTAMP:20260205T115106Z
URL:https://ecolecreativitephoto.com/activites/montreal-nocturne-printemps
 2026/
SUMMARY:Montréal et les couleurs nocturnes - Vendredis 1 au 29 mai 2026 -1
 9h30 à 22h
DESCRIPTION:Montréal et les couleurs nocturnes - 1 au 29 mai 2026 -19h30 
 à 22h
CATEGORIES:Atelier Photo
LOCATION:En présentiel\, Sur le Terrain\,   \, Canada
X-APPLE-STRUCTURED-LOCATION;VALUE=URI;X-ADDRESS=Sur le Terrain\,   \, Canad
 a;X-APPLE-RADIUS=100;X-TITLE=En présentiel:geo:0,0
END:VEVENT
BEGIN:VTIMEZONE
TZID:America/New_York
X-LIC-LOCATION:America/New_York
BEGIN:DAYLIGHT
DTSTART:20260308T030000
TZOFFSETFROM:-0500
TZOFFSETTO:-0400
TZNAME:EDT
END:DAYLIGHT
END:VTIMEZONE
END:VCALENDAR