BEGIN:VCALENDAR
VERSION:2.0
PRODID:-//wp-events-plugin.com//7.2.3.1//EN
TZID:America/New_York
X-WR-TIMEZONE:America/New_York
BEGIN:VEVENT
UID:306@ecolecreativitephoto.com
DTSTART;TZID=America/New_York:20240716T190000
DTEND;TZID=America/New_York:20240716T210000
DTSTAMP:20240520T163425Z
URL:https://ecolecreativitephoto.com/activites/roles-avant-plan-soir-1607-
 1308/
SUMMARY:Maîtriser les 7 rôles de l'avant plan- mardis 16 juillet et 13 ao
 ût 2024 - 19h00
DESCRIPTION:Maîtriser les 7 rôles de l'avant plan- mardis 16 juillet et 1
 3 août 2024 - 19h00
CATEGORIES:Cours Photo
LOCATION:En ligne\,   \,   \, Canada
X-APPLE-STRUCTURED-LOCATION;VALUE=URI;X-ADDRESS=  \,   \, Canada;X-APPLE-RA
 DIUS=100;X-TITLE=En ligne:geo:0,0
END:VEVENT
BEGIN:VTIMEZONE
TZID:America/New_York
X-LIC-LOCATION:America/New_York
BEGIN:DAYLIGHT
DTSTART:20240310T030000
TZOFFSETFROM:-0500
TZOFFSETTO:-0400
TZNAME:EDT
END:DAYLIGHT
END:VTIMEZONE
END:VCALENDAR