BEGIN:VCALENDAR
VERSION:2.0
PRODID:-//wp-events-plugin.com//7.2.3.1//EN
TZID:America/New_York
X-WR-TIMEZONE:America/New_York
BEGIN:VEVENT
UID:161@ecolecreativitephoto.com
DTSTART;TZID=America/New_York;VALUE=DATE:20230603
DTEND;TZID=America/New_York;VALUE=DATE:20230610
DTSTAMP:20230520T220146Z
URL:https://ecolecreativitephoto.com/activites/vacance_metis_printemps-202
 3/
SUMMARY:Le printemps de Métis-sur-Mer - 03 au 09 juin 2023
DESCRIPTION:
CATEGORIES:Vacances Photo
LOCATION:Métis-sur-Mer\, Chemin Patton\, Métis-sur-Mer\, Gaspésie\, Cana
 da
X-APPLE-STRUCTURED-LOCATION;VALUE=URI;X-ADDRESS=Chemin Patton\, Métis-sur-
 Mer\, Gaspésie\, Canada;X-APPLE-RADIUS=100;X-TITLE=Métis-sur-Mer:geo:0,0
END:VEVENT
BEGIN:VTIMEZONE
TZID:America/New_York
X-LIC-LOCATION:America/New_York
BEGIN:DAYLIGHT
DTSTART:20230312T030000
TZOFFSETFROM:-0500
TZOFFSETTO:-0400
TZNAME:EDT
END:DAYLIGHT
END:VTIMEZONE
END:VCALENDAR